BEGIN:VCALENDAR
VERSION:2.0
PRODID:-//STRIMgroup - ECPv6.15.18//NONSGML v1.0//EN
CALSCALE:GREGORIAN
METHOD:PUBLISH
X-ORIGINAL-URL:https://www.strimgroup.com/en/
X-WR-CALDESC:Events for STRIMgroup
REFRESH-INTERVAL;VALUE=DURATION:PT1H
X-Robots-Tag:noindex
X-PUBLISHED-TTL:PT1H
BEGIN:VTIMEZONE
TZID:Europe/Berlin
BEGIN:DAYLIGHT
TZOFFSETFROM:+0100
TZOFFSETTO:+0200
TZNAME:CEST
DTSTART:20150329T010000
END:DAYLIGHT
BEGIN:STANDARD
TZOFFSETFROM:+0200
TZOFFSETTO:+0100
TZNAME:CET
DTSTART:20151025T010000
END:STANDARD
BEGIN:DAYLIGHT
TZOFFSETFROM:+0100
TZOFFSETTO:+0200
TZNAME:CEST
DTSTART:20160327T010000
END:DAYLIGHT
BEGIN:STANDARD
TZOFFSETFROM:+0200
TZOFFSETTO:+0100
TZNAME:CET
DTSTART:20161030T010000
END:STANDARD
BEGIN:DAYLIGHT
TZOFFSETFROM:+0100
TZOFFSETTO:+0200
TZNAME:CEST
DTSTART:20170326T010000
END:DAYLIGHT
BEGIN:STANDARD
TZOFFSETFROM:+0200
TZOFFSETTO:+0100
TZNAME:CET
DTSTART:20171029T010000
END:STANDARD
END:VTIMEZONE
BEGIN:VEVENT
DTSTART;VALUE=DATE:20161006
DTEND;VALUE=DATE:20161007
DTSTAMP:20260422T015910
CREATED:20140601T163952Z
LAST-MODIFIED:20160916T211533Z
UID:3289-1475712000-1475798399@www.strimgroup.com
SUMMARY:Fachtagung "Lernfabrik 4.0: alles Kino oder was?" in Wien
DESCRIPTION:Für den Herbst dieses Jahres – am Donnerstag\, den 6. Oktober 2016 – planen wir ein einmaliges Event mit drei Partnern; Oracle Austria\, Whatchado und Schoolgames. \nHands-on-Workshop am Vormittag: \nVon 10 bis ca. 15 Uhr findet in den Räumlichkeiten der Oracle Austria (Wagramer Str. 19\, 1220 Wien) ein Workshop zum Thema “Komponenten einer Nachwuchsstrategie” statt. Als Basis werden Leitfäden entlang dreier Themenschwerpunkte ausgehändigt und diskutiert: \n\nStrategische Nachwuchsplanung\,\nergebnis-fokussierte Umsetzung\, und\nstrategische Nachwuchsentwicklung.\n\nAlle Teilnehmenden erhalten je ein Exemplar der neuen Berufsbildungsstudie 2016\, deren umfassende Ergebnisse in den Workshop mit einfließen werden.\nDer Kostenbeitrag für Workshop und Studie beträgt EUR 89\,- netto pro Person.\nDer Workshop ist separat vom weiteren Tagesprogramm buchbar. \n[button link=”/?page_id=3047″ color=”default” size=”” stretch=”” type=”” shape=”” target=”_self” title=”” gradient_colors=”|” gradient_hover_colors=”|” accent_color=”” accent_hover_color=”” bevel_color=”” border_width=”” icon=”” icon_position=”left” icon_divider=”no” modal=”” animation_type=”0″ animation_direction=”left” animation_speed=”1″ alignment=”” class=”” id=””]Jetzt anmelden[/button] \n  \nImpulsvorträge und Kino-Event am Nachmittag und Abend: \nMehrere Impulsvorträge bilden von 16 bis ca. 18 Uhr den Start in den Nachmittag. Neben einigen Kernaussagen der STRIM Berufsbildungsstudie 2016 geht es um die Themen MINT-Berufe und Lernfabrik 4.0: \n\n15:30-16:00 Uhr – Registrierung\n16:00-16:30 Uhr – Kernaussagen der DACH Berufsbildungsstudie 2016 – Fokus Österreich | Dr. Volker Mayer\, STRIMgroup AG.\n16:30-16:45 Uhr – Recruiting und Mitarbeiter der Zukunft | Robert Frasch\, lehrlingspower.at.\n16:45-17:00 Uhr – Berufsorientierung neu gedacht | Matthias Würth\, Schoolgames.\n17:00-17:30 Uhr – Finde Deinen Weg! | Stefan Patak\, Whatchado.\n17:30-18:00 Uhr – Haben wir die richtigen Mitarbeiter am richtigen Platz bzw. mit welchen Werkzeugen können wir Mitarbeiter unterstützen den richtigen Platz zu finden? | Harald Rieder\, Oracle Austria.\n\nNach einer kurzen Pause folgt ab ca. 18:30 Uhr ein Kino-Event. Als Film zeigen wir #TomorrowDerFilm; hier geht´s zum Trailer.\nDieser Film weist einen schönen Bezug zum Thema des Workshops und den Impulsvorträgen auf. \nDie Veranstaltung am Nachmittag und Abend – Impulsvorträge und Kino-Event – findet im Cineplexx Donauplex (Wagramer Straße 79\, 1220 Wien) statt.\nBitte melden Sie sich hierzu unter diesem Link an. Wir freuen uns auf Sie! \nFrau Mag. Pia Kleihs \nSaarplatz 19/6\, A-1190 Wien\nTel.: +43 650 8520 674 \nE-Mail: pia.kleihs@at.strimgroup.com \n  \n  \n 
URL:https://www.strimgroup.com/en/event/fachtagung-young-talents-was-geht-wien/
LOCATION:Lugner Kino City\, Gablenzg. 3\, Wien\, Wien\, 1150\, Österreich
CATEGORIES:Fachtagungen
ORGANIZER;CN="STRIMacademy":MAILTO:fachtagungen@strim-academy.com
END:VEVENT
END:VCALENDAR