BEGIN:VCALENDAR
VERSION:2.0
PRODID:-//STRIMgroup - ECPv6.15.18//NONSGML v1.0//EN
CALSCALE:GREGORIAN
METHOD:PUBLISH
X-ORIGINAL-URL:https://www.strimgroup.com
X-WR-CALDESC:Veranstaltungen für STRIMgroup
REFRESH-INTERVAL;VALUE=DURATION:PT1H
X-Robots-Tag:noindex
X-PUBLISHED-TTL:PT1H
BEGIN:VTIMEZONE
TZID:Europe/Berlin
BEGIN:DAYLIGHT
TZOFFSETFROM:+0100
TZOFFSETTO:+0200
TZNAME:CEST
DTSTART:20180325T010000
END:DAYLIGHT
BEGIN:STANDARD
TZOFFSETFROM:+0200
TZOFFSETTO:+0100
TZNAME:CET
DTSTART:20181028T010000
END:STANDARD
BEGIN:DAYLIGHT
TZOFFSETFROM:+0100
TZOFFSETTO:+0200
TZNAME:CEST
DTSTART:20190331T010000
END:DAYLIGHT
BEGIN:STANDARD
TZOFFSETFROM:+0200
TZOFFSETTO:+0100
TZNAME:CET
DTSTART:20191027T010000
END:STANDARD
BEGIN:DAYLIGHT
TZOFFSETFROM:+0100
TZOFFSETTO:+0200
TZNAME:CEST
DTSTART:20200329T010000
END:DAYLIGHT
BEGIN:STANDARD
TZOFFSETFROM:+0200
TZOFFSETTO:+0100
TZNAME:CET
DTSTART:20201025T010000
END:STANDARD
END:VTIMEZONE
BEGIN:VEVENT
DTSTART;TZID=Europe/Berlin:20190710T080000
DTEND;TZID=Europe/Berlin:20190710T110000
DTSTAMP:20260422T051502
CREATED:20190607T071024Z
LAST-MODIFIED:20190607T070748Z
UID:10626-1562745600-1562756400@www.strimgroup.com
SUMMARY:Business Breakfast "Berufsbildung als Kernbestandteil der Strategischen Personalplanung" in Zürich
DESCRIPTION:Akute Talentknappheit in Kombination mit einer sich schnell ändernden Belegschaftsdynamik und abnehmender Produktivität machen es erforderlich\, dass Unternehmen in Zukunftskompetenzen investieren. Damit die Bemühungen der Zukunftsfähigkeit effektiv und nachhaltig sind\, müssen sie strategisch ausgelegt sein\, um die allgemeinen Geschäftsziele zu unterstützen. Bereits vor vier Jahren erschien das Buch „Die neue Berufsausbildung: strategisch\, agil\, wirtschaftlich“: \n\nWas macht eine strategische Berufsbildung aus?\nWas hat sich seit Erscheinen des Buches in den letzten vier Jahren verändert – volkswirtschaftlich und betriebswirtschaftlich?\nWelche Auswirkungen haben diese Veränderungen auf Ausbilder\, sowie Marketing- und Recruiting-Experten in den Betrieben?\n\nIm Rahmen des Business Breakfasts am 10. Juli 2019 bei der Bouygues E&S InTec Management AG werden zwei interessante Impulsvorträge auf diese strategische Komponente der Berufsbildung eingehen. \nFolgende Agenda erwartet Sie: \n\nab 8 Uhr: Ankunft der Teilnehmer*innen\n8:30 Uhr: Begrüssung und kurze Vorstellung\n8:45 Uhr: Impulsvortrag von Herrn Dr. Volker Mayer und Diskussion 1: Wie wird die Berufsbildung Teil der Strategischen Personalplanung?\nDie Berufsbildung sollte als integraler Bestandteil einer Strategischen Personalplanung betrachtet und – wie bereits dargelegt – entsprechend positioniert werden. Dies impliziert externe und interne strategische Analysen sowie ein fundiertes Geschäftsmodell; abgebildet im Talent Sourcing Canvas und im Value Proposition Canvas. Ein solches Vorgehen geht mit Metriken und Kennzahlen zu Markenbekanntheit\, Conversion Rates\, Kanalqualität\, Gesamteffizienz u.v.m. einher.\nIn Anlehnung an konkrete Projekte wird die Ausgestaltung einer Berufsbildung dargelegt\, die Teil der Strategischen Personalplanung ist.\n9:15 Uhr: Pause mit Frühstück\n9:45 Uhr Impulsvortrag von Herrn Rolf Siebold\, Leiter Berufs- und Weiterbildung der Bouygues Gruppe\, und Diskussion 2: Verliert die Berufsbildung die Rolle der Nachwuchsförderung?\nProduktivität beschreibt allgemein das Verhältnis zwischen produzierten Gütern/Dienstleistungen und den dafür benötigten Produktionsfaktoren. Wie ändert sich die Dienstleistung Berufsbildung\, wie werden die dafür nötigen\, materiellen und immateriellen Mittel und Leistungen angepasst? Konkret: Wie haben sich die Anzahl Bewerbungen bzw. Einstellungen pro VZK verändert? Wie die Gesamtkosten pro VZK\, oder die Gesamtkosten pro Bewerbung bzw. pro Einstellung? Was sind mögliche Gründe für diese Entwicklung? Welche Rolle spielt die Bewerber-Qualität? Einige Antworten gibt der konkrete Anwendungsfall „Bouygues E&S InTec Management AG“.\n\n10:15 Uhr Austausch mit Frühstück\ngegen 11 Uhr: Verabschiedung\n\nWelchen Nutzen dürfen Sie erwarten? \n\nSie erhalten konkrete Ansatzpunkte für die Ausgestaltung einer aus der Strategischen Personalplanung abgeleiteten Berufsbildung.\nSie erhalten hierzu Impulse aus interessanten Praxisprojekten und aus der anwendungsorientierten Wissenschaft.\nSie vertiefen Ihr Wissen im Rahmen der Diskussionen und des Erfahrungsaustauschs und gewinnen daraus konkret umsetzbare Handlungsempfehlungen.\n\nZielgruppe: \n\nPersonalleiter/CHRO\,\nAusbildungsleiter/Bildungsverantwortliche\,\nVerantwortliche für das Recruiting von Berufseinsteigern\,\nPR- und Kommunikationsverantwortliche\,\nMarketingverantwortliche\, sowie\nHR Business Partner\n\n  \nJetzt anmelden
URL:https://www.strimgroup.com/event/bb19-trm-berufsbildung-zh/
LOCATION:Bouygues E&S InTec Management AG\, Hohlstrasse 188\, Zürich\, Zürich\, 8004\, Schweiz
CATEGORIES:Business Breakfast,Fachtagungen
ATTACH;FMTTYPE=image/jpeg:https://www.strimgroup.com/wp-content/uploads/2017/12/STRIM_Buchtitel_Rezized.jpg
END:VEVENT
END:VCALENDAR