BEGIN:VCALENDAR
VERSION:2.0
PRODID:-//STRIMgroup - ECPv6.15.18//NONSGML v1.0//EN
CALSCALE:GREGORIAN
METHOD:PUBLISH
X-ORIGINAL-URL:https://www.strimgroup.com
X-WR-CALDESC:Veranstaltungen für STRIMgroup
REFRESH-INTERVAL;VALUE=DURATION:PT1H
X-Robots-Tag:noindex
X-PUBLISHED-TTL:PT1H
BEGIN:VTIMEZONE
TZID:Europe/Berlin
BEGIN:DAYLIGHT
TZOFFSETFROM:+0100
TZOFFSETTO:+0200
TZNAME:CEST
DTSTART:20180325T010000
END:DAYLIGHT
BEGIN:STANDARD
TZOFFSETFROM:+0200
TZOFFSETTO:+0100
TZNAME:CET
DTSTART:20181028T010000
END:STANDARD
BEGIN:DAYLIGHT
TZOFFSETFROM:+0100
TZOFFSETTO:+0200
TZNAME:CEST
DTSTART:20190331T010000
END:DAYLIGHT
BEGIN:STANDARD
TZOFFSETFROM:+0200
TZOFFSETTO:+0100
TZNAME:CET
DTSTART:20191027T010000
END:STANDARD
BEGIN:DAYLIGHT
TZOFFSETFROM:+0100
TZOFFSETTO:+0200
TZNAME:CEST
DTSTART:20200329T010000
END:DAYLIGHT
BEGIN:STANDARD
TZOFFSETFROM:+0200
TZOFFSETTO:+0100
TZNAME:CET
DTSTART:20201025T010000
END:STANDARD
END:VTIMEZONE
BEGIN:VEVENT
DTSTART;TZID=Europe/Berlin:20190312T160000
DTEND;TZID=Europe/Berlin:20190312T170000
DTSTAMP:20260422T120636
CREATED:20170929T111122Z
LAST-MODIFIED:20190910T121112Z
UID:7918-1552406400-1552410000@www.strimgroup.com
SUMMARY:Webinar "Talent Ralationship Management"\, März 2019
DESCRIPTION:Das Webinar „Talent Relationship Management“ dient als Auftaktveranstaltung in das Forum Talent Relationship Management 2019 und findet am 12. März 2019 von 16 Uhr bis ca. 17 Uhr statt. \nDieses ca. 1-stündige Webinar der STRIMacademy ist wie folgt gegliedert: \n\nZielsetzung und Vorgehensweise des drei-stufigen Forums\nImpulsreferat mit neuesten Studien\, Büchern und sonstigen Veröffentlichungen zum Thema\nErkenntnisse der letztjährigen Foren und Fachtagungen (Blog und Galerie)\nEinbindung von Marktdaten im Rahmen von Bildungscontrolling und Talent Analytics\nProzessabgrenzung im Rahmen des Forums\nEinstieg in die Online-Fragebögen und in die Erhebungssystematik\nGesamtplanung im Rahmen des Forums mit abschliessender Fachtagung\nBeantwortung offener Fragen\n\nWertvolle Einblicke in diese Thematik liefern auch die Bücher\, die Dr. Volker Mayer\, CEO der STRIMgroup AG\, gemeinsam mit Experten aus Wissenschaft\, Politik und Praxis publiziert hat. \nEine Kurzinformation liefert Ihnen unser Erklärvideo. \nBitte akzeptieren Sie statistik\, Marketing Cookies\, um diesen Inhalt sehen zu können.\nFrau Christiane Mayer steht Ihnen für Rückfragen zur Verfügung und nimmt gerne Ihre verbindliche Anmeldung entgegen. \nFrau Christiane Mayer \nMorgenröte 8a\, D-68305 Mannheim\nTel.: +49 621 7481 742\, Fax: +49 621 7481 741 \nE-Mail: christiane.mayer@strimgroup.org \n  \n  \n  \nJetzt anmelden
URL:https://www.strimgroup.com/event/webinar-trm-mar2019/
CATEGORIES:Webinare
ATTACH;FMTTYPE=image/jpeg:https://www.strimgroup.com/wp-content/uploads/2015/09/Fotolia_91566240_STRIM-Webinar.jpg
ORGANIZER;CN="STRIMacademy":MAILTO:fachtagungen@strim-academy.com
END:VEVENT
END:VCALENDAR