BEGIN:VCALENDAR
VERSION:2.0
PRODID:-//STRIMgroup - ECPv6.15.18//NONSGML v1.0//EN
CALSCALE:GREGORIAN
METHOD:PUBLISH
X-ORIGINAL-URL:https://www.strimgroup.com
X-WR-CALDESC:Veranstaltungen für STRIMgroup
REFRESH-INTERVAL;VALUE=DURATION:PT1H
X-Robots-Tag:noindex
X-PUBLISHED-TTL:PT1H
BEGIN:VTIMEZONE
TZID:Europe/Berlin
BEGIN:DAYLIGHT
TZOFFSETFROM:+0100
TZOFFSETTO:+0200
TZNAME:CEST
DTSTART:20170326T010000
END:DAYLIGHT
BEGIN:STANDARD
TZOFFSETFROM:+0200
TZOFFSETTO:+0100
TZNAME:CET
DTSTART:20171029T010000
END:STANDARD
BEGIN:DAYLIGHT
TZOFFSETFROM:+0100
TZOFFSETTO:+0200
TZNAME:CEST
DTSTART:20180325T010000
END:DAYLIGHT
BEGIN:STANDARD
TZOFFSETFROM:+0200
TZOFFSETTO:+0100
TZNAME:CET
DTSTART:20181028T010000
END:STANDARD
BEGIN:DAYLIGHT
TZOFFSETFROM:+0100
TZOFFSETTO:+0200
TZNAME:CEST
DTSTART:20190331T010000
END:DAYLIGHT
BEGIN:STANDARD
TZOFFSETFROM:+0200
TZOFFSETTO:+0100
TZNAME:CET
DTSTART:20191027T010000
END:STANDARD
BEGIN:DAYLIGHT
TZOFFSETFROM:+0100
TZOFFSETTO:+0200
TZNAME:CEST
DTSTART:20200329T010000
END:DAYLIGHT
BEGIN:STANDARD
TZOFFSETFROM:+0200
TZOFFSETTO:+0100
TZNAME:CET
DTSTART:20201025T010000
END:STANDARD
END:VTIMEZONE
BEGIN:VEVENT
DTSTART;TZID=Europe/Berlin:20181015T080000
DTEND;TZID=Europe/Berlin:20190830T170000
DTSTAMP:20260419T195849
CREATED:20181207T131110Z
LAST-MODIFIED:20190910T120450Z
UID:9510-1539590400-1567184400@www.strimgroup.com
SUMMARY:Touchpoint-Befragung 2018/2019 in der DACH-Region
DESCRIPTION:Aufgrund der Erkenntnisse der ersten Touchpoint-Befragung 2017/2018 setzen wir diese direkt fort und stellen Bewerbern*innen an bis zu fünf Touchpoints entlang des TRM-Prozesses und SINUS Jugendmilieus – diese können pro teilnehmendem Unternehmen moderat abweichen – jeweils ca. fünf bis acht Fragen. Diese orientieren sich an folgenden Talentflüssen und Personalauswahlprozessen: \n \nHierbei nutzen wir einen über mehrere Jahre hinweg aufgebauten Fragenkatalog\, der sich an der Schülerbefragung „anlehnt“ und pro Unternehmen ergänzt bzw. modifiziert werden kann. \nTouchpoints beginnen auf Messen\, in Schulen\, etc. und enden mit der Zu- bzw. Absage an Bewerber*innen und dem Onboarding. Folgende Kategorien werden dabei unterschieden: \n\nEmployer Branding („Schüler*innen anziehen“)\,\nRecruiting („Schüler*innen auswählen)\, sowie\nOnboarding „Azubis bzw. DH-Studenten*innen integrieren und binden“).\n\nIm Ergebnis erhalten die teilnehmenden Unternehmen gezielte Rückmeldungen entlang mehrerer Touchpoints – differenziert nach unterschiedlichen Merkmalen und grafisch aufbereitet -\, um notwendige Massnahmen bzw. neue Wege in der Dualen Ausbildung gezielt daran auszurichten. \nDer Zeitraum der Befragung ist wie folgt gestaltet: \n\nStart der Befragung: in der dritten Woche nach verbindlicher Auftragserteilung.\nParallel zur Touchpoint-Befragung führen Azubis/Mitarbeitende der Ausbildungsabteilungen ggf. ergänzende qualitative Interviews durch.\nZwischenstände bereits vorliegender Antworten können seitens der STRIMacademy auf Wunsch jeweils zum Ende des Monats zur Verfügung gestellt werden.\n24. Mai 2019: Abzug der bis dahin verfügbaren Daten und Auswertung parallel zur Online-Unternehmensbefragung für die Fachtagung am 27.-28. Juni 2019\, die für das TRM-Forum 2019 benötigt werden.\n30. August 2019: finaler Abzug aller verfügbaren Daten und Ende der Befragung.\n\n \nIm Rahmen der Fachtagungen informieren wir ausführlich über die Ergebnisse der Touchpointbefragungen und laden Sie heute schon recht herzlich ein\, hieran teilzunehmen. \nAnmeldungen zur Teilnahme an der nächsten Befragung und/oder Fachtagung können bei unserer Ansprechpartnerin erfolgen. \nFrau Christiane Mayer \nMorgenröte 8a\, D-68305 Mannheim\nTel.: +49 621 7481 742\, Fax: +49 621 7481 741 \nE-Mail: christiane.mayer@strimgroup.org \n 
URL:https://www.strimgroup.com/event/strim-touchpointbefragung/
CATEGORIES:Befragungen
ATTACH;FMTTYPE=image/jpeg:https://www.strimgroup.com/wp-content/uploads/2015/09/Fotolia_105656344_STRIM-Online-Befragung.jpg
END:VEVENT
BEGIN:VEVENT
DTSTART;TZID=Europe/Berlin:20190627T090000
DTEND;TZID=Europe/Berlin:20190628T160000
DTSTAMP:20260419T195849
CREATED:20180630T150827Z
LAST-MODIFIED:20190910T120705Z
UID:9023-1561626000-1561737600@www.strimgroup.com
SUMMARY:Fachtagung "Von Canvas & Milieus über Touchpoints & Conversion zur Wirtschaftlichkeit!" in Stromberg
DESCRIPTION:Die Fachtagung im Land & Golf Hotel Stromberg am 27.-28. Juni 2019 bildet den Abschluss des neu gestalteten Forums „Candidate & Talent Relationship Management“ in Deutschland. \nNutzen: Vor dem Hintergrund demografischer Veränderungen\, zunehmender Akademisierung und abnehmender Ausbildungsreife stehen zahlreiche Ausbildungsbetriebe speziell im technisch-gewerblichen Bereich vor sehr grossen Herausforderungen. Auf Basis durchgeführter Befragungen vorab der Fachtagung liegen zahlreiche Fakten auf dem Tisch\, die im Rahmen der Tagung diskutiert werden und als Input für notwendige Umsetzungsmassnahmen dienen. Hier einige Beispiele: \n                                                                                                                                                                                                                                                                                                                                                                                                                                                                                                                                                                                                                                                                                                                                                                                                                                                                                                                                                                                                                                                                                                                                                                                                                                                                                                                                                                                                                                                                                                                                                                                                                                                                                                                                                                                                                                                                                                                                                                                                                                                                                                                                                                                                                   \nDiese Erkenntnisse bilden die Grundlage für ein aussagekräftiges Controlling. Die Tagung thematisiert damit wichtige Themen des gesamten Talent-Relationship-Management-Prozesses: \n\nDie Basis bilden das Talent Sourcing Canvas (TSC) und das Value Proposition Canvas (VPC) mit Fokus auf Zielgruppen und deren Milieus\, Branding und Informationen/-skanäle.\nDanach stehen Touchpoint-Befragungen der Bewerber*innen im Mittelpunkt\, um Marketing- und Rekrutierungstrichter – u.a. entlang Conversion Rates – besser analysieren und Massnahmen ableiten zu können.\nSchliesslich werden wie in jeder Tagung der STRIMacademy Metriken und Kennzahlen – teilweise im Benchmark – sowie deren Entwicklung über die Zeit betrachtet.\n\nHier einige bildhafte Eindrücke unserer Fachtagungen der letzten zwei Jahre: \nEs wurde keine Galerie ausgewählt oder die Galerie wurde gelöscht. \nEs wurde keine Galerie ausgewählt oder die Galerie wurde gelöscht. \nSchwerpunkt: Neben den bereits bei der 2018er-Tagung thematisierten Talent-Akquisitionsstrategien stehen folgende Leitfragen im Vordergrund: \n\nWas bedeutet Digitalisierung für das Recruiting?\nWelche Rolle spielen Smart Data\, Chatbots\, künstliche Intelligenz oder smarte Algorithmen? Welche Wirkungen sind evaluierbar?\nErhöht Digital Recruiting die Arbeitgeberattraktivität?\nInwiefern wird sich die Rolle der Recruiter verändern?\nWelche Branding- und Recruiting-Kennzahlen entwickeln sich wie?\n\nDabei binden wir sowohl Erkenntnisse der anwendungsorientierten Wissenschaft als auch Praxisbeispiele mit ein. \nDas Programm – der Schwerpunkt liegt auf der Zielgruppe der Berufseinsteiger – wird im Frühjahr 2019 an dieser Stelle vorgestellt. \nDie Tagung beginnt am 27. Juni 2019 um 9:00 Uhr und endet am 28. Juni 2019 gegen 16:00 Uhr. Die Teilnehmerzahl ist begrenzt\, um den aktiven Austausch aller Teilnehmer*innen zu gewährleisten.\nDie finale Agenda geben wir ca. vier Wochen vorab der Tagung nach finaler Analyse der Online-Befragungsergebnisse bekannt. \nDie Zielgruppe setzt sich wie folgt zusammen: \n\nPersonalleiter\,\nAusbildungsleiter\,\nVerantwortliche für das Recruiting von Berufseinsteigern\,\nPR- und Kommunikationsverantwortliche\,\nMarketingverantwortliche\, sowie\nPersonal- und Finanzcontroller.\n\nBesonderheiten: Die Teilnahme an der Tagung ist an die vorgelagerte Unternehmensbefragung geknüpft [mehr]. Einen Kurzüberblick über die Kernmodule des Forums – die Fachtagung bildet hierbei den Abschluss – erhalten Sie im Erklärvideo. \nMethodische Grundlagen (Talent Sourcing Canvas\, Strategie-Mapping\, Referenz-Modell\, etc.) werden optional im – der Fachtagung vorgelagerten – Methoden-Seminar vermittelt\, unternehmensspezifische Umsetzungshinweise im – der Fachtagung nachgelagerten – Hands-on-Workshop [mehr]. Für diesbezüglich detailliertere Informationen steht Ihnen Frau Christiane Mayer gerne zur Verfügung. Während der Fachtagung stehen konkrete Praxisbeispiele und der Erfahrungsaustausch im Mittelpunkt. \nWertvolle Einblicke in diese Thematik liefern auch die Bücher\, die Dr. Volker Mayer\, CEO der STRIMgroup AG\, gemeinsam mit Experten aus Wissenschaft\, Politik und Praxis publiziert hat. \nAusführliche Informationen zu Konditionen und Anmeldung für eine Teilnahme finden Sie hier. \nFrau Christiane Mayer \nMorgenröte 8a\, D-68305 Mannheim\nTel.: +49 7481 742\, Fax: +49 7481 741 \nE-Mail: christiane.mayer@strimgroup.org \n  \n  \n  \nJetzt anmelden
URL:https://www.strimgroup.com/event/trm-fachtagung-2019/
LOCATION:Land & Golf Hotel Stromberg\, Am Buchenring 6\, Stromberg\, Rheinland-Pfalz\, 55442\, Deutschland
CATEGORIES:Fachtagungen
ATTACH;FMTTYPE=image/jpeg:https://www.strimgroup.com/wp-content/uploads/2015/12/Recruitment_2500.jpg
ORGANIZER;CN="STRIMacademy":MAILTO:fachtagungen@strim-academy.com
END:VEVENT
END:VCALENDAR